BEGIN:VCALENDAR
VERSION:2.0
PRODID:-//SWIMBA - ECPv6.15.13.1//NONSGML v1.0//EN
CALSCALE:GREGORIAN
METHOD:PUBLISH
X-WR-CALNAME:SWIMBA
X-ORIGINAL-URL:https://swimba.org
X-WR-CALDESC:Events for SWIMBA
REFRESH-INTERVAL;VALUE=DURATION:PT1H
X-Robots-Tag:noindex
X-PUBLISHED-TTL:PT1H
BEGIN:VTIMEZONE
TZID:America/Boise
BEGIN:DAYLIGHT
TZOFFSETFROM:-0700
TZOFFSETTO:-0600
TZNAME:MDT
DTSTART:20250309T090000
END:DAYLIGHT
BEGIN:STANDARD
TZOFFSETFROM:-0600
TZOFFSETTO:-0700
TZNAME:MST
DTSTART:20251102T080000
END:STANDARD
BEGIN:DAYLIGHT
TZOFFSETFROM:-0700
TZOFFSETTO:-0600
TZNAME:MDT
DTSTART:20260308T090000
END:DAYLIGHT
BEGIN:STANDARD
TZOFFSETFROM:-0600
TZOFFSETTO:-0700
TZNAME:MST
DTSTART:20261101T080000
END:STANDARD
BEGIN:DAYLIGHT
TZOFFSETFROM:-0700
TZOFFSETTO:-0600
TZNAME:MDT
DTSTART:20270314T090000
END:DAYLIGHT
BEGIN:STANDARD
TZOFFSETFROM:-0600
TZOFFSETTO:-0700
TZNAME:MST
DTSTART:20271107T080000
END:STANDARD
END:VTIMEZONE
BEGIN:VEVENT
DTSTART;TZID=America/Boise:20260423T173000
DTEND;TZID=America/Boise:20260423T193000
DTSTAMP:20260423T062557
CREATED:20260302T221032Z
LAST-MODIFIED:20260302T221032Z
UID:37077-1776965400-1776972600@swimba.org
SUMMARY:Pavlis Park Trail Work (Avimor) - Day 2
DESCRIPTION:Join us to do some trail work at the new Pavlis Park Trails in Avimor. \nPlease meet at the Corrals Parking in Avimor at 5:30 PM. Dress appropriately for trail work including long pants\, gloves\, and closed toe shoes. Don’t forget water and snacks! \nTools will be supplied but please bring your own gloves. \nIf you learn that you are unable to attend after you RSVP please email us at events@swimba.org.
URL:https://swimba.org/events/pavlis-park-trail-work-avimor-day-2/
LOCATION:Avimor – Kirsten Rd\, W Kirsten Rd\, Eagle\, 83714\, United States
CATEGORIES:Trail Work
ATTACH;FMTTYPE=image/png:https://swimba.org/wp-content/uploads/2024/09/Build.png
END:VEVENT
BEGIN:VEVENT
DTSTART;TZID=America/Boise:20260428T163000
DTEND;TZID=America/Boise:20260428T183000
DTSTAMP:20260423T062557
CREATED:20260228T153454Z
LAST-MODIFIED:20260422T150716Z
UID:37056-1777393800-1777401000@swimba.org
SUMMARY:Adopt-a-Trail Rock Island 2026
DESCRIPTION:We have adopted Rock Island and we need your help! Rock Island Trail is a Ridge to Rivers Trail in the Table Rock area. \nJoin us for trail maintenance on Rock Island Trail! Please wear long pants and closed toe shoes or boots. Don’t forget to bring water. \nTools will be supplied but please bring your own gloves. \nSpaces are limited. Please RSVP below to secure your slot. Don’t miss this great opportunity to support Ridge to Rivers! \nMeeting Location: Tram Trail Trailhead – 14 Tram Trail\, Boise\, ID 83712 near Warm Springs Golf Course \n  \nRegistration opens March 15th. Click “Notify Me” below to be notified when registration opens.
URL:https://swimba.org/events/adopt-a-trail-rock-island-3/
LOCATION:Tram Trail Trailhead\, 14 Tram Trail\, Boise\, ID\, 83712
CATEGORIES:Trail Work
ATTACH;FMTTYPE=image/png:https://swimba.org/wp-content/uploads/2024/09/Build.png
END:VEVENT
END:VCALENDAR